BEGIN:VCALENDAR
VERSION:2.0
PRODID:-//wp-events-plugin.com//6.4.10.2//EN
TZID:Europe/London
X-WR-TIMEZONE:Europe/London
BEGIN:VEVENT
UID:65@marlborough.photography
DTSTART;TZID=Europe/London:20231007T083000
DTEND;TZID=Europe/London:20231007T130000
DTSTAMP:20231004T112316Z
URL:https://www.marlborough.photography/events/trip-prescott-speed-hill-cl
 imb/
SUMMARY:TRIP: Prescott Speed Hill Climb
DESCRIPTION:WHERE: Prescott Speed Hill Climb \, Gotherington\, Cheltenham G
 L52 9RD\nHOW TO GET THERE: What3Words: commander.lightens.detriment\nHOW T
 O BOOK TICKETS: To order your entry ticket(s) (£16/person)\, please visit
  here  (this price is only up until 6/10/23). The price is higher on the 
 gate\, on the day.\n\n\n\nThis is a group photoshoot during the practice s
 essions in the morning\, for The End of the Season for BOC (Bugatti Owners
  Club) Championships. We have access to shoot in the pits\, in addition to
  all areas up the hill – SPEED is the theme!
END:VEVENT
BEGIN:VTIMEZONE
TZID:Europe/London
X-LIC-LOCATION:Europe/London
BEGIN:DAYLIGHT
DTSTART:20230326T020000
TZOFFSETFROM:+0000
TZOFFSETTO:+0100
TZNAME:BST
END:DAYLIGHT
END:VTIMEZONE
END:VCALENDAR