BEGIN:VCALENDAR
VERSION:2.0
PRODID:-//wp-events-plugin.com//6.4.10.2//EN
TZID:Europe/London
X-WR-TIMEZONE:Europe/London
BEGIN:VEVENT
UID:67@marlborough.photography
DTSTART;TZID=Europe/London:20231023T193000
DTEND;TZID=Europe/London:20231023T214500
DTSTAMP:20231004T124141Z
URL:https://www.marlborough.photography/events/video-presentation-the-hear
 t-of-the-photograph/
SUMMARY:TALK: The Heart of the Photograph
DESCRIPTION:WHERE: Kennet Vally Hall\, Lockeridge\nWHO: David DuChemin (a p
 re-recorded video)\nWEBSITE: https://portfolio.davidduchemin.com\n\n\n\n\n
 David duChemin is a humanitarian and world photographer\, some-times based
  in Vancouver\, Canada. He is a nomad\, explorer\, writer\, and publisher.
 \n\nDavid is a formally trained photographer\, though that formal training
  was not actually in photography but in theology\, in which he graduated w
 ith a four-year degree (that took five years) in order to pursue a twelve-
 year career in comedy before stepping off the stage\, to the relief of his
  audiences\, to return to his cameras and begin photographing\, and leavin
 g pieces of his heart\, on seven continents.\n\nDavid likes single malt wh
 isky from Islay\, hammocks\, and long walks on the beach. He is also a bes
 t-selling author\, which means he will one day inherit the basement full o
 f his books that his mother has been furiously ordering from Amazon.com.\n
 \nHe's also a pretty good photographer! It's a very compelling presentatio
 n\, from an extremely engaging presenter – and will enthuse and motivate
  you to take even more compelling photos.\n\nThere will be a 'half time' 
 – for tea/coffee and cake!
END:VEVENT
BEGIN:VTIMEZONE
TZID:Europe/London
X-LIC-LOCATION:Europe/London
BEGIN:DAYLIGHT
DTSTART:20230326T020000
TZOFFSETFROM:+0000
TZOFFSETTO:+0100
TZNAME:BST
END:DAYLIGHT
END:VTIMEZONE
END:VCALENDAR